BEGIN:VCALENDAR
VERSION:2.0
PRODID:-//PIERPONT BAY YACHT CLUB - ECPv6.15.20//NONSGML v1.0//EN
CALSCALE:GREGORIAN
METHOD:PUBLISH
X-WR-CALNAME:PIERPONT BAY YACHT CLUB
X-ORIGINAL-URL:https://pbyc.org
X-WR-CALDESC:Events for PIERPONT BAY YACHT CLUB
REFRESH-INTERVAL;VALUE=DURATION:PT1H
X-Robots-Tag:noindex
X-PUBLISHED-TTL:PT1H
BEGIN:VTIMEZONE
TZID:America/Los_Angeles
BEGIN:DAYLIGHT
TZOFFSETFROM:-0800
TZOFFSETTO:-0700
TZNAME:PDT
DTSTART:20240310T100000
END:DAYLIGHT
BEGIN:STANDARD
TZOFFSETFROM:-0700
TZOFFSETTO:-0800
TZNAME:PST
DTSTART:20241103T090000
END:STANDARD
BEGIN:DAYLIGHT
TZOFFSETFROM:-0800
TZOFFSETTO:-0700
TZNAME:PDT
DTSTART:20250309T100000
END:DAYLIGHT
BEGIN:STANDARD
TZOFFSETFROM:-0700
TZOFFSETTO:-0800
TZNAME:PST
DTSTART:20251102T090000
END:STANDARD
BEGIN:DAYLIGHT
TZOFFSETFROM:-0800
TZOFFSETTO:-0700
TZNAME:PDT
DTSTART:20260308T100000
END:DAYLIGHT
BEGIN:STANDARD
TZOFFSETFROM:-0700
TZOFFSETTO:-0800
TZNAME:PST
DTSTART:20261101T090000
END:STANDARD
END:VTIMEZONE
BEGIN:VEVENT
DTSTART;TZID=America/Los_Angeles:20250420T090000
DTEND;TZID=America/Los_Angeles:20250420T130000
DTSTAMP:20260420T183435
CREATED:20250417T002357Z
LAST-MODIFIED:20250417T002747Z
UID:1619-1745139600-1745154000@pbyc.org
SUMMARY:Sunday Morning Bay Ride - April 20\, 9:30 - 1:00 PM
DESCRIPTION:🚤 Sunday Morning Bay Ride – April 20\, 9AM–1PMExperience the TunaTan! \nGot friends curious about boating? Or maybe you’re a member without a boat? Come aboard the TunaTan – a 23′ Cobia Center Console – for a fun and relaxed Sunday morning cruise! \n🗓 Sunday\, April 20🕘 9:00 AM – 1:00 PM📍 Departing from Ventura Harbor💰 Just chip in for gas – likely under $20 per person! \n✅ Open to prospective members and members without a boat🥪 Bring a few snacks or drinks to share \nSpace is limited\, so RSVP early to secure a spot! \nLet’s hit the water and enjoy a taste of the boating life with great company and smooth seas.
URL:https://pbyc.org/event/sunday-morning-bay-ride-april-20-930-100-pm/
LOCATION:CA
ORGANIZER;CN="alexander":MAILTO:alexander@verharen.us
END:VEVENT
END:VCALENDAR