BEGIN:VCALENDAR
VERSION:2.0
PRODID:-//PIERPONT BAY YACHT CLUB - ECPv6.15.20//NONSGML v1.0//EN
CALSCALE:GREGORIAN
METHOD:PUBLISH
X-ORIGINAL-URL:https://pbyc.org
X-WR-CALDESC:Events for PIERPONT BAY YACHT CLUB
REFRESH-INTERVAL;VALUE=DURATION:PT1H
X-Robots-Tag:noindex
X-PUBLISHED-TTL:PT1H
BEGIN:VTIMEZONE
TZID:America/Los_Angeles
BEGIN:DAYLIGHT
TZOFFSETFROM:-0800
TZOFFSETTO:-0700
TZNAME:PDT
DTSTART:20240310T100000
END:DAYLIGHT
BEGIN:STANDARD
TZOFFSETFROM:-0700
TZOFFSETTO:-0800
TZNAME:PST
DTSTART:20241103T090000
END:STANDARD
BEGIN:DAYLIGHT
TZOFFSETFROM:-0800
TZOFFSETTO:-0700
TZNAME:PDT
DTSTART:20250309T100000
END:DAYLIGHT
BEGIN:STANDARD
TZOFFSETFROM:-0700
TZOFFSETTO:-0800
TZNAME:PST
DTSTART:20251102T090000
END:STANDARD
BEGIN:DAYLIGHT
TZOFFSETFROM:-0800
TZOFFSETTO:-0700
TZNAME:PDT
DTSTART:20260308T100000
END:DAYLIGHT
BEGIN:STANDARD
TZOFFSETFROM:-0700
TZOFFSETTO:-0800
TZNAME:PST
DTSTART:20261101T090000
END:STANDARD
END:VTIMEZONE
BEGIN:VEVENT
DTSTART;TZID=America/Los_Angeles:20250419T083000
DTEND;TZID=America/Los_Angeles:20250419T130000
DTSTAMP:20260421T025843
CREATED:20250416T221253Z
LAST-MODIFIED:20250417T002558Z
UID:1607-1745051400-1745067600@pbyc.org
SUMMARY:Mariner's Swap Meet at Safe Harbor Ventura Isle
DESCRIPTION:Join Safe Harbor Ventura Isle\, PBYC and fellow mariners for a community swap meet hosted by Safe Harbor Ventura Isle on Saturday\, April 19\, 2025\, from 8:30 AM to 1:00 PM. This event offers a great opportunity to buy\, sell\, or trade nautical items and connect with the boating community.​Ventura Harbor Village+1Ventura Harbor Village+1 \nFor more details\, visit: https://www.venturaharborvillage.com/event/mariners-swap-meet-at-safe-harbor-ventura-isle/​
URL:https://pbyc.org/event/mariners-swap-meet-at-safe-harbor-ventura-isle/
LOCATION:PBYC\, 1363 Spinnaker Drive\, Ventura\, CA\, 93003\, United States
ORGANIZER;CN="Ventura Isle Harbor":MAILTO:venturaisle@shmarinas.com
END:VEVENT
END:VCALENDAR