BEGIN:VCALENDAR
VERSION:2.0
PRODID:-//PIERPONT BAY YACHT CLUB - ECPv6.15.20//NONSGML v1.0//EN
CALSCALE:GREGORIAN
METHOD:PUBLISH
X-WR-CALNAME:PIERPONT BAY YACHT CLUB
X-ORIGINAL-URL:https://pbyc.org
X-WR-CALDESC:Events for PIERPONT BAY YACHT CLUB
REFRESH-INTERVAL;VALUE=DURATION:PT1H
X-Robots-Tag:noindex
X-PUBLISHED-TTL:PT1H
BEGIN:VTIMEZONE
TZID:America/Los_Angeles
BEGIN:DAYLIGHT
TZOFFSETFROM:-0800
TZOFFSETTO:-0700
TZNAME:PDT
DTSTART:20240310T100000
END:DAYLIGHT
BEGIN:STANDARD
TZOFFSETFROM:-0700
TZOFFSETTO:-0800
TZNAME:PST
DTSTART:20241103T090000
END:STANDARD
BEGIN:DAYLIGHT
TZOFFSETFROM:-0800
TZOFFSETTO:-0700
TZNAME:PDT
DTSTART:20250309T100000
END:DAYLIGHT
BEGIN:STANDARD
TZOFFSETFROM:-0700
TZOFFSETTO:-0800
TZNAME:PST
DTSTART:20251102T090000
END:STANDARD
BEGIN:DAYLIGHT
TZOFFSETFROM:-0800
TZOFFSETTO:-0700
TZNAME:PDT
DTSTART:20260308T100000
END:DAYLIGHT
BEGIN:STANDARD
TZOFFSETFROM:-0700
TZOFFSETTO:-0800
TZNAME:PST
DTSTART:20261101T090000
END:STANDARD
END:VTIMEZONE
BEGIN:VEVENT
DTSTART;TZID=America/Los_Angeles:20250418T180000
DTEND;TZID=America/Los_Angeles:20250418T210000
DTSTAMP:20260420T150918
CREATED:20250416T225939Z
LAST-MODIFIED:20250418T002736Z
UID:1611-1744999200-1745010000@pbyc.org
SUMMARY:PBYC Game Night - Friday April 18\, 6:00 PM
DESCRIPTION:Cribbage night is our first Friday night event for the season! Come in and get to know us. Don’t know how to play? We give lessons! Bring an interesting board if you have one. Don’t like card games! We have a cupboard full of board games to choose from. Small snacks will be provided. Bring something to share if you like. Cash\, credit\, debit at the door for this event\, please.  $10.00 includes one drink at the full bar. RSVP is not required\, but you may use the meetup link below or text the organizer (Jeff).
URL:https://pbyc.org/event/pbyc-game-night-friday-april-18-600-pm/
LOCATION:PBYC\, 1363 Spinnaker Drive\, Ventura\, CA\, 93003\, United States
ORGANIZER;CN="jeff olmstead":MAILTO:jeffrey.olmstead@att.net
END:VEVENT
END:VCALENDAR