BEGIN:VCALENDAR
VERSION:2.0
PRODID:-//PIERPONT BAY YACHT CLUB - ECPv6.15.20//NONSGML v1.0//EN
CALSCALE:GREGORIAN
METHOD:PUBLISH
X-ORIGINAL-URL:https://pbyc.org
X-WR-CALDESC:Events for PIERPONT BAY YACHT CLUB
REFRESH-INTERVAL;VALUE=DURATION:PT1H
X-Robots-Tag:noindex
X-PUBLISHED-TTL:PT1H
BEGIN:VTIMEZONE
TZID:UTC
BEGIN:STANDARD
TZOFFSETFROM:+0000
TZOFFSETTO:+0000
TZNAME:UTC
DTSTART:20230101T000000
END:STANDARD
END:VTIMEZONE
BEGIN:VEVENT
DTSTART;TZID=UTC:20240609T140000
DTEND;TZID=UTC:20240609T170000
DTSTAMP:20260421T081714
CREATED:20240516T222248Z
LAST-MODIFIED:20240516T222248Z
UID:1386-1717941600-1717952400@pbyc.org
SUMMARY:PBYC Open House June 9
DESCRIPTION:
URL:https://pbyc.org/event/pbyc-open-house-june-9/
LOCATION:PBYC\, 1363 Spinnaker Drive\, Ventura\, CA\, 93003\, United States
END:VEVENT
END:VCALENDAR